BEGIN:VCALENDAR
VERSION:2.0
PRODID:icalendar-ruby
CALSCALE:GREGORIAN
METHOD:PUBLISH
BEGIN:VEVENT
DTSTAMP:20260420T062235Z
UID:5-401666@goldengate234.tithelysetup2.com
DTSTART:20260920T173000Z
DTEND:20260920T183000Z
CLASS:PUBLIC
CREATED:20260418T073430
DESCRIPTION:Sunday Worship
LAST-MODIFIED:20260418T073430
LOCATION:
SUMMARY:Sunday Worship
URL;VALUE=URI:https://goldengate234.tithelysetup2.com/events/sunday-worship
 /2026-09-20
END:VEVENT
END:VCALENDAR
